BEGIN:VCALENDAR
VERSION:2.0
PRODID:-//Plone.org//NONSGML plone.app.event//EN
X-WR-TIMEZONE:Europe/Rome
BEGIN:VEVENT
SUMMARY:The SKA and its Precursors: their place in the future of multi-mes
 senger astrophysics
DTSTART;TZID=Europe/Rome;VALUE=DATE-TIME:20170310T113000
DTEND;TZID=Europe/Rome;VALUE=DATE-TIME:20170310T123000
DTSTAMP;VALUE=DATE-TIME:20260420T151006Z
UID:e8b925803f0241758274bea28b0ff146@fisica-astronomia.unibo.it
CREATED;VALUE=DATE-TIME:20170308T102020Z
DESCRIPTION:Aperitivo Scientifico
LAST-MODIFIED;VALUE=DATE-TIME:20170308T102153Z
URL:https://fisica-astronomia.unibo.it/it/eventi/the-ska-and-its-precursor
 s-their-place-in-the-future-of-multi-messenger-astrophysics
END:VEVENT
BEGIN:VTIMEZONE
TZID:Europe/Rome
X-LIC-LOCATION:Europe/Rome
BEGIN:STANDARD
DTSTART;VALUE=DATE-TIME:20161030T020000
TZNAME:CET
TZOFFSETFROM:+0200
TZOFFSETTO:+0100
END:STANDARD
END:VTIMEZONE
END:VCALENDAR
