BEGIN:VCALENDAR
VERSION:2.0
PRODID:-//Plone.org//NONSGML plone.app.event//EN
X-WR-TIMEZONE:Europe/Rome
BEGIN:VEVENT
SUMMARY:The DCC-CR promotes the Coastal Resilience School Second Webinar w
 ith Ghada el Serafy and Emanuela Clementi
DTSTART;TZID=Europe/Rome;VALUE=DATE-TIME:20250218T140000
DTEND;TZID=Europe/Rome;VALUE=DATE-TIME:20250218T160000
DTSTAMP;VALUE=DATE-TIME:20260422T191943Z
UID:89777e1b098142c4b6badbda2e66b2fc@fisica-astronomia.unibo.it
CREATED;VALUE=DATE-TIME:20250205T153108Z
LAST-MODIFIED;VALUE=DATE-TIME:20250205T153109Z
URL:https://fisica-astronomia.unibo.it/it/eventi/the-dcc-cr-promotes-the-c
 oastal-resilience-school-second-webinar-with-ghada-el-serafy-and-emanuela-
 clementi
END:VEVENT
BEGIN:VTIMEZONE
TZID:Europe/Rome
X-LIC-LOCATION:Europe/Rome
BEGIN:STANDARD
DTSTART;VALUE=DATE-TIME:20241027T020000
TZNAME:CET
TZOFFSETFROM:+0200
TZOFFSETTO:+0100
END:STANDARD
END:VTIMEZONE
END:VCALENDAR
