BEGIN:VCALENDAR
VERSION:2.0
PRODID:-//Plone.org//NONSGML plone.app.event//EN
X-WR-TIMEZONE:Europe/Rome
BEGIN:VEVENT
SUMMARY:The DCC-CR promotes the Coastal Resilience School First Webinar: C
 oastal Resilience and its Business Implications
DTSTART;TZID=Europe/Rome;VALUE=DATE-TIME:20250204T140000
DTEND;TZID=Europe/Rome;VALUE=DATE-TIME:20250204T160000
DTSTAMP;VALUE=DATE-TIME:20260422T191943Z
UID:b5ae515c5f6747b2920b57737030eb3c@fisica-astronomia.unibo.it
CREATED;VALUE=DATE-TIME:20250129T151144Z
LAST-MODIFIED;VALUE=DATE-TIME:20250129T151145Z
URL:https://fisica-astronomia.unibo.it/it/eventi/the-dcc-cr-promotes-the-c
 oastal-resilience-school-first-webinar-coastal-resilience-and-its-business
 -implications
END:VEVENT
BEGIN:VTIMEZONE
TZID:Europe/Rome
X-LIC-LOCATION:Europe/Rome
BEGIN:STANDARD
DTSTART;VALUE=DATE-TIME:20241027T020000
TZNAME:CET
TZOFFSETFROM:+0200
TZOFFSETTO:+0100
END:STANDARD
END:VTIMEZONE
END:VCALENDAR
