BEGIN:VCALENDAR
VERSION:2.0
PRODID:-//Plone.org//NONSGML plone.app.event//EN
X-WR-TIMEZONE:Europe/Rome
BEGIN:VEVENT
SUMMARY:Sulle spalle dei giganti: Sensori e rivelatori al silicio per lo s
 tudio delle interazioni fondamentali
DTSTART;TZID=Europe/Rome;VALUE=DATE-TIME:20220512T143000
DTEND;TZID=Europe/Rome;VALUE=DATE-TIME:20220512T163000
DTSTAMP;VALUE=DATE-TIME:20260422T062628Z
UID:4840e46504b1449ead37a4d23af862d5@fisica-astronomia.unibo.it
CREATED;VALUE=DATE-TIME:20220421T074105Z
DESCRIPTION:L'Accademia delle Scienze dell'Istituto di Bologna incontra gl
 i studenti di Fisica
LAST-MODIFIED;VALUE=DATE-TIME:20220503T093503Z
URL:https://fisica-astronomia.unibo.it/it/eventi/sulle-spalle-dei-giganti-
 sensori-e-rivelatori-al-silicio-per-lo-studio-delle-interazioni-fondamenta
 li
END:VEVENT
BEGIN:VTIMEZONE
TZID:Europe/Rome
X-LIC-LOCATION:Europe/Rome
BEGIN:DAYLIGHT
DTSTART;VALUE=DATE-TIME:20220327T030000
TZNAME:CEST
TZOFFSETFROM:+0100
TZOFFSETTO:+0200
END:DAYLIGHT
END:VTIMEZONE
END:VCALENDAR
