BEGIN:VCALENDAR
VERSION:2.0
PRODID:-//Plone.org//NONSGML plone.app.event//EN
X-WR-TIMEZONE:Europe/Rome
BEGIN:VEVENT
SUMMARY:Seminar "Problems with Near-Inertial Waves"
DTSTART;TZID=Europe/Rome;VALUE=DATE-TIME:20240729T110000
DTEND;TZID=Europe/Rome;VALUE=DATE-TIME:20240729T120000
DTSTAMP;VALUE=DATE-TIME:20260422T025216Z
UID:bf144d4af141480bb9c7fc2af1a0d025@fisica-astronomia.unibo.it
CREATED;VALUE=DATE-TIME:20240724T092902Z
LAST-MODIFIED;VALUE=DATE-TIME:20240724T115734Z
URL:https://fisica-astronomia.unibo.it/it/eventi/seminar-problems-with-nea
 r-inertial-waves
END:VEVENT
BEGIN:VTIMEZONE
TZID:Europe/Rome
X-LIC-LOCATION:Europe/Rome
BEGIN:DAYLIGHT
DTSTART;VALUE=DATE-TIME:20240331T030000
TZNAME:CEST
TZOFFSETFROM:+0100
TZOFFSETTO:+0200
END:DAYLIGHT
END:VTIMEZONE
END:VCALENDAR
