BEGIN:VCALENDAR
VERSION:2.0
PRODID:-//Plone.org//NONSGML plone.app.event//EN
X-WR-TIMEZONE:Europe/Rome
BEGIN:VEVENT
SUMMARY:Sbagliando si impara. Il lavoro dell'astronomo
DTSTART;TZID=Europe/Rome;VALUE=DATE-TIME:20220514T000000
DTEND;TZID=Europe/Rome;VALUE=DATE-TIME:20220528T000000
DTSTAMP;VALUE=DATE-TIME:20260422T025429Z
UID:9055f66cefb1436fb4503603238987ba@fisica-astronomia.unibo.it
CREATED;VALUE=DATE-TIME:20220511T150550Z
LAST-MODIFIED;VALUE=DATE-TIME:20220511T150551Z
URL:https://fisica-astronomia.unibo.it/it/eventi/sbagliando-si-impara-il-l
 avoro-dellastronomo
END:VEVENT
BEGIN:VTIMEZONE
TZID:Europe/Rome
X-LIC-LOCATION:Europe/Rome
BEGIN:DAYLIGHT
DTSTART;VALUE=DATE-TIME:20220327T030000
TZNAME:CEST
TZOFFSETFROM:+0100
TZOFFSETTO:+0200
END:DAYLIGHT
END:VTIMEZONE
END:VCALENDAR
