BEGIN:VCALENDAR
VERSION:2.0
PRODID:-//Plone.org//NONSGML plone.app.event//EN
X-WR-TIMEZONE:Europe/Rome
BEGIN:VEVENT
SUMMARY:Radiation tolerant electronics for high energy physics experiments
DTSTART;TZID=Europe/Rome;VALUE=DATE-TIME:20170331T113000
DTEND;TZID=Europe/Rome;VALUE=DATE-TIME:20170331T123000
DTSTAMP;VALUE=DATE-TIME:20260422T184246Z
UID:eba49b76c0d24cdf99173641094a467e@fisica-astronomia.unibo.it
CREATED;VALUE=DATE-TIME:20170328T060325Z
DESCRIPTION:Aperitivo scientifico
LAST-MODIFIED;VALUE=DATE-TIME:20170328T060428Z
URL:https://fisica-astronomia.unibo.it/it/eventi/radiation-tolerant-electr
 onics-for-high-energy-physics-experiments
END:VEVENT
BEGIN:VTIMEZONE
TZID:Europe/Rome
X-LIC-LOCATION:Europe/Rome
BEGIN:DAYLIGHT
DTSTART;VALUE=DATE-TIME:20170326T030000
TZNAME:CEST
TZOFFSETFROM:+0100
TZOFFSETTO:+0200
END:DAYLIGHT
END:VTIMEZONE
END:VCALENDAR
