BEGIN:VCALENDAR
VERSION:2.0
PRODID:-//Plone.org//NONSGML plone.app.event//EN
X-WR-TIMEZONE:Europe/Rome
BEGIN:VEVENT
SUMMARY:Predictions for Galactic Archaeology from Numerical Modeling
DTSTART;TZID=Europe/Rome;VALUE=DATE-TIME:20160324T140000
DTEND;TZID=Europe/Rome;VALUE=DATE-TIME:20160324T150000
DTSTAMP;VALUE=DATE-TIME:20260419T214522Z
UID:324c38f1cea143c2b58426653219b681@fisica-astronomia.unibo.it
CREATED;VALUE=DATE-TIME:20160321T095932Z
LAST-MODIFIED;VALUE=DATE-TIME:20160321T095948Z
URL:https://fisica-astronomia.unibo.it/it/eventi/predictions-for-galactic-
 archaeology-from-numerical-modeling
END:VEVENT
BEGIN:VTIMEZONE
TZID:Europe/Rome
X-LIC-LOCATION:Europe/Rome
BEGIN:STANDARD
DTSTART;VALUE=DATE-TIME:20151025T020000
TZNAME:CET
TZOFFSETFROM:+0200
TZOFFSETTO:+0100
END:STANDARD
END:VTIMEZONE
END:VCALENDAR
