BEGIN:VCALENDAR
VERSION:2.0
PRODID:-//Plone.org//NONSGML plone.app.event//EN
X-WR-TIMEZONE:Europe/Rome
BEGIN:VEVENT
SUMMARY:Po River Blue Fest
DTSTART;VALUE=DATE:20250516
DTEND;VALUE=DATE:20250518
DTSTAMP;VALUE=DATE-TIME:20260422T184323Z
UID:00ee73eb0ff64565a7d58e4d06783452@fisica-astronomia.unibo.it
CREATED;VALUE=DATE-TIME:20250515T093121Z
DESCRIPTION:In-Formare L'Adattamento
LAST-MODIFIED;VALUE=DATE-TIME:20250515T094344Z
URL:https://fisica-astronomia.unibo.it/it/eventi/po-river-blue-fest
END:VEVENT
END:VCALENDAR
