BEGIN:VCALENDAR
VERSION:2.0
PRODID:-//Plone.org//NONSGML plone.app.event//EN
X-WR-TIMEZONE:Europe/Rome
BEGIN:VEVENT
SUMMARY:Peer learning in classi numerose: una sfida possibile
DTSTART;TZID=Europe/Rome;VALUE=DATE-TIME:20231027T113000
DTEND;TZID=Europe/Rome;VALUE=DATE-TIME:20231027T130000
DTSTAMP;VALUE=DATE-TIME:20260419T164041Z
UID:0875b6ea67da434ca34c6caf3314c429@fisica-astronomia.unibo.it
CREATED;VALUE=DATE-TIME:20231025T090928Z
DESCRIPTION:Evento di apertuna di un ciclo di 3 seminari dedicati alla did
 attica innovativa.
LAST-MODIFIED;VALUE=DATE-TIME:20231027T082040Z
URL:https://fisica-astronomia.unibo.it/it/eventi/peer-learning-in-classi-n
 umerose-una-sfida-possibile
END:VEVENT
BEGIN:VTIMEZONE
TZID:Europe/Rome
X-LIC-LOCATION:Europe/Rome
BEGIN:DAYLIGHT
DTSTART;VALUE=DATE-TIME:20230326T030000
TZNAME:CEST
TZOFFSETFROM:+0100
TZOFFSETTO:+0200
END:DAYLIGHT
END:VTIMEZONE
END:VCALENDAR
