BEGIN:VCALENDAR
VERSION:2.0
PRODID:-//Plone.org//NONSGML plone.app.event//EN
X-WR-TIMEZONE:Europe/Rome
BEGIN:VEVENT
SUMMARY:Oxide Surfaces
DTSTART;TZID=Europe/Rome;VALUE=DATE-TIME:20250327T150000
DTEND;TZID=Europe/Rome;VALUE=DATE-TIME:20250327T170000
DTSTAMP;VALUE=DATE-TIME:20260423T115127Z
UID:2c5df83f6d0f4fc7a90fa3812d0a09a0@fisica-astronomia.unibo.it
CREATED;VALUE=DATE-TIME:20250307T115049Z
DESCRIPTION:Where Theory and Experiments Meet
LAST-MODIFIED;VALUE=DATE-TIME:20250310T083917Z
URL:https://fisica-astronomia.unibo.it/it/eventi/oxide-surfaces
END:VEVENT
BEGIN:VTIMEZONE
TZID:Europe/Rome
X-LIC-LOCATION:Europe/Rome
BEGIN:STANDARD
DTSTART;VALUE=DATE-TIME:20241027T020000
TZNAME:CET
TZOFFSETFROM:+0200
TZOFFSETTO:+0100
END:STANDARD
END:VTIMEZONE
END:VCALENDAR
