BEGIN:VCALENDAR
VERSION:2.0
PRODID:-//Plone.org//NONSGML plone.app.event//EN
X-WR-TIMEZONE:Europe/Rome
BEGIN:VEVENT
SUMMARY:Organic wearable technologies
DTSTART;TZID=Europe/Rome;VALUE=DATE-TIME:20170203T120000
DTEND;TZID=Europe/Rome;VALUE=DATE-TIME:20170303T130000
DTSTAMP;VALUE=DATE-TIME:20260420T170640Z
UID:04dfe2223e8141389193bc33b0979d87@fisica-astronomia.unibo.it
CREATED;VALUE=DATE-TIME:20170131T152503Z
DESCRIPTION:ciclo "Caffè Scientifico di Fisica della Materia"
LAST-MODIFIED;VALUE=DATE-TIME:20170201T081522Z
URL:https://fisica-astronomia.unibo.it/it/eventi/organic-weareble-technolo
 gies
END:VEVENT
BEGIN:VTIMEZONE
TZID:Europe/Rome
X-LIC-LOCATION:Europe/Rome
BEGIN:STANDARD
DTSTART;VALUE=DATE-TIME:20161030T020000
TZNAME:CET
TZOFFSETFROM:+0200
TZOFFSETTO:+0100
END:STANDARD
END:VTIMEZONE
END:VCALENDAR
