BEGIN:VCALENDAR
VERSION:2.0
PRODID:-//Plone.org//NONSGML plone.app.event//EN
X-WR-TIMEZONE:Europe/Rome
BEGIN:VEVENT
SUMMARY:One-loop effective actions and higher spins
DTSTART;TZID=Europe/Rome;VALUE=DATE-TIME:20171206T150000
DTEND;TZID=Europe/Rome;VALUE=DATE-TIME:20171206T160000
DTSTAMP;VALUE=DATE-TIME:20260421T195705Z
UID:407ded24a45b40dc8683127611415b9b@fisica-astronomia.unibo.it
CREATED;VALUE=DATE-TIME:20171206T091727Z
LAST-MODIFIED;VALUE=DATE-TIME:20171206T091752Z
URL:https://fisica-astronomia.unibo.it/it/eventi/one-loop-effective-action
 s-and-higher-spins
END:VEVENT
BEGIN:VTIMEZONE
TZID:Europe/Rome
X-LIC-LOCATION:Europe/Rome
BEGIN:STANDARD
DTSTART;VALUE=DATE-TIME:20171029T020000
TZNAME:CET
TZOFFSETFROM:+0200
TZOFFSETTO:+0100
END:STANDARD
END:VTIMEZONE
END:VCALENDAR
