BEGIN:VCALENDAR
VERSION:2.0
PRODID:-//Plone.org//NONSGML plone.app.event//EN
X-WR-TIMEZONE:Europe/Rome
BEGIN:VEVENT
SUMMARY:Non sono solo parole
DTSTART;TZID=Europe/Rome;VALUE=DATE-TIME:20250121T143000
DTEND;TZID=Europe/Rome;VALUE=DATE-TIME:20250121T160000
DTSTAMP;VALUE=DATE-TIME:20260422T152818Z
UID:4a351360ad224c51ad104465311524e2@fisica-astronomia.unibo.it
CREATED;VALUE=DATE-TIME:20250113T220951Z
DESCRIPTION:Il contributo del linguaggio inclusivo all'uguaglianza di gene
 re.
LAST-MODIFIED;VALUE=DATE-TIME:20250114T135859Z
URL:https://fisica-astronomia.unibo.it/it/eventi/non-sono-solo-parole
END:VEVENT
BEGIN:VTIMEZONE
TZID:Europe/Rome
X-LIC-LOCATION:Europe/Rome
BEGIN:STANDARD
DTSTART;VALUE=DATE-TIME:20241027T020000
TZNAME:CET
TZOFFSETFROM:+0200
TZOFFSETTO:+0100
END:STANDARD
END:VTIMEZONE
END:VCALENDAR
