BEGIN:VCALENDAR
VERSION:2.0
PRODID:-//Plone.org//NONSGML plone.app.event//EN
X-WR-TIMEZONE:Europe/Rome
BEGIN:VEVENT
SUMMARY:Marte e Giove: due pianeti sott'occhio
DTSTART;TZID=Europe/Rome;VALUE=DATE-TIME:20170310T204500
DTEND;TZID=Europe/Rome;VALUE=DATE-TIME:20170310T211500
DTSTAMP;VALUE=DATE-TIME:20260420T193223Z
UID:9334f2990db34ea49e4145a8acf1c847@fisica-astronomia.unibo.it
CREATED;VALUE=DATE-TIME:20170306T101447Z
DESCRIPTION:Conferenze di Astronomia in Cirenaica
LAST-MODIFIED;VALUE=DATE-TIME:20170309T065658Z
URL:https://fisica-astronomia.unibo.it/it/eventi/marte-e-giove-due-pianeti
 -sottocchio
END:VEVENT
BEGIN:VTIMEZONE
TZID:Europe/Rome
X-LIC-LOCATION:Europe/Rome
BEGIN:STANDARD
DTSTART;VALUE=DATE-TIME:20161030T020000
TZNAME:CET
TZOFFSETFROM:+0200
TZOFFSETTO:+0100
END:STANDARD
END:VTIMEZONE
END:VCALENDAR
