BEGIN:VCALENDAR
VERSION:2.0
PRODID:-//Plone.org//NONSGML plone.app.event//EN
X-WR-TIMEZONE:Europe/Rome
BEGIN:VEVENT
SUMMARY:Low-field NMR-MRI of Porous Media: Methods and Applications
DTSTART;TZID=Europe/Rome;VALUE=DATE-TIME:20220608T093000
DTEND;TZID=Europe/Rome;VALUE=DATE-TIME:20220608T160500
DTSTAMP;VALUE=DATE-TIME:20260422T062629Z
UID:db335f6c456d42999a8b493c058e708f@fisica-astronomia.unibo.it
CREATED;VALUE=DATE-TIME:20220518T120644Z
DESCRIPTION:DIFA with the Department of Civil Chemical Environmental and M
 aterials Engineering and of Mathematics has organized an online internatio
 nal workshop on Methods and Applications of lowfield NMR and MRI
LAST-MODIFIED;VALUE=DATE-TIME:20220518T121940Z
URL:https://fisica-astronomia.unibo.it/it/eventi/low-field-nmr-mri-of-poro
 us-media-methods-and-applications
END:VEVENT
BEGIN:VTIMEZONE
TZID:Europe/Rome
X-LIC-LOCATION:Europe/Rome
BEGIN:DAYLIGHT
DTSTART;VALUE=DATE-TIME:20220327T030000
TZNAME:CEST
TZOFFSETFROM:+0100
TZOFFSETTO:+0200
END:DAYLIGHT
END:VTIMEZONE
END:VCALENDAR
