BEGIN:VCALENDAR
VERSION:2.0
PRODID:-//Plone.org//NONSGML plone.app.event//EN
X-WR-TIMEZONE:Europe/Rome
BEGIN:VEVENT
SUMMARY:Lo schema di rottura minimale della simmetria di replica nei siste
 mi complessi
DTSTART;TZID=Europe/Rome;VALUE=DATE-TIME:20170323T160000
DTEND;TZID=Europe/Rome;VALUE=DATE-TIME:20170323T170000
DTSTAMP;VALUE=DATE-TIME:20260420T123255Z
UID:f862038834cc4ad488b4e69f7938a153@fisica-astronomia.unibo.it
CREATED;VALUE=DATE-TIME:20170322T074849Z
LAST-MODIFIED;VALUE=DATE-TIME:20170322T075650Z
URL:https://fisica-astronomia.unibo.it/it/eventi/lo-schema-di-rottura-mini
 male-della-simmetria-di-replica-nei-sistemi-complessi
END:VEVENT
BEGIN:VTIMEZONE
TZID:Europe/Rome
X-LIC-LOCATION:Europe/Rome
BEGIN:STANDARD
DTSTART;VALUE=DATE-TIME:20161030T020000
TZNAME:CET
TZOFFSETFROM:+0200
TZOFFSETTO:+0100
END:STANDARD
END:VTIMEZONE
END:VCALENDAR
