BEGIN:VCALENDAR
VERSION:2.0
PRODID:-//Plone.org//NONSGML plone.app.event//EN
X-WR-TIMEZONE:Europe/Rome
BEGIN:VEVENT
SUMMARY:Le prime immagini dal James Webb Telescope
DTSTART;TZID=Europe/Rome;VALUE=DATE-TIME:20220712T213000
DTEND;TZID=Europe/Rome;VALUE=DATE-TIME:20220712T233000
DTSTAMP;VALUE=DATE-TIME:20260421T011912Z
UID:71a44e1a93f84ec88c3a24596741a68a@fisica-astronomia.unibo.it
CREATED;VALUE=DATE-TIME:20220711T131032Z
DESCRIPTION:Sofos APS e INAF-OAS presenteranno le prime immagini a colori 
 ottenute dal telescopio spaziale James Webb.
LAST-MODIFIED;VALUE=DATE-TIME:20220711T131917Z
URL:https://fisica-astronomia.unibo.it/it/eventi/le-prime-immagini-dal-jam
 es-webb-telescope
END:VEVENT
BEGIN:VTIMEZONE
TZID:Europe/Rome
X-LIC-LOCATION:Europe/Rome
BEGIN:DAYLIGHT
DTSTART;VALUE=DATE-TIME:20220327T030000
TZNAME:CEST
TZOFFSETFROM:+0100
TZOFFSETTO:+0200
END:DAYLIGHT
END:VTIMEZONE
END:VCALENDAR
