BEGIN:VCALENDAR
VERSION:2.0
PRODID:-//Plone.org//NONSGML plone.app.event//EN
X-WR-TIMEZONE:Europe/Rome
BEGIN:VEVENT
SUMMARY:La teoria atomico-molecolare dall'antichità all'Ottocento
DTSTART;TZID=Europe/Rome;VALUE=DATE-TIME:20170306T113000
DTEND;TZID=Europe/Rome;VALUE=DATE-TIME:20170306T123000
DTSTAMP;VALUE=DATE-TIME:20260422T153653Z
UID:f01baa9845174194862905557fba8a6c@fisica-astronomia.unibo.it
CREATED;VALUE=DATE-TIME:20170217T104648Z
LAST-MODIFIED;VALUE=DATE-TIME:20170217T110144Z
URL:https://fisica-astronomia.unibo.it/it/eventi/la-teoria-atomico-molecol
 are-dallantichita-allottocento
END:VEVENT
BEGIN:VTIMEZONE
TZID:Europe/Rome
X-LIC-LOCATION:Europe/Rome
BEGIN:STANDARD
DTSTART;VALUE=DATE-TIME:20161030T020000
TZNAME:CET
TZOFFSETFROM:+0200
TZOFFSETTO:+0100
END:STANDARD
END:VTIMEZONE
END:VCALENDAR
