BEGIN:VCALENDAR
VERSION:2.0
PRODID:-//Plone.org//NONSGML plone.app.event//EN
X-WR-TIMEZONE:Europe/Rome
BEGIN:VEVENT
SUMMARY:Introduction to surficial geology of terrestrial-type planets
DTSTART;TZID=Europe/Rome;VALUE=DATE-TIME:20170329T162000
DTEND;TZID=Europe/Rome;VALUE=DATE-TIME:20170331T103000
DTSTAMP;VALUE=DATE-TIME:20260422T153941Z
UID:b39bfb03ba5d48bfb7ff0a882eddaef6@fisica-astronomia.unibo.it
CREATED;VALUE=DATE-TIME:20170315T102546Z
DESCRIPTION:BiGeA-DIFA | FREE SHORT COURSE
LAST-MODIFIED;VALUE=DATE-TIME:20170315T102624Z
URL:https://fisica-astronomia.unibo.it/it/eventi/introduction-to-surficial
 -geology-of-terrestrial-type-planets
END:VEVENT
BEGIN:VTIMEZONE
TZID:Europe/Rome
X-LIC-LOCATION:Europe/Rome
BEGIN:DAYLIGHT
DTSTART;VALUE=DATE-TIME:20170326T030000
TZNAME:CEST
TZOFFSETFROM:+0100
TZOFFSETTO:+0200
END:DAYLIGHT
END:VTIMEZONE
END:VCALENDAR
