BEGIN:VCALENDAR
VERSION:2.0
PRODID:-//Plone.org//NONSGML plone.app.event//EN
X-WR-TIMEZONE:Europe/Rome
BEGIN:VEVENT
SUMMARY:In viaggio con Euclid
DTSTART;TZID=Europe/Rome;VALUE=DATE-TIME:20250320T170000
DTEND;TZID=Europe/Rome;VALUE=DATE-TIME:20250320T183000
DTSTAMP;VALUE=DATE-TIME:20260422T184330Z
UID:4b707a53549b4d51b0bc95aa892543c1@fisica-astronomia.unibo.it
CREATED;VALUE=DATE-TIME:20250314T115132Z
DESCRIPTION:I nuovi risultati della missione\, una finestra sul cosmo.
LAST-MODIFIED;VALUE=DATE-TIME:20250314T143032Z
URL:https://fisica-astronomia.unibo.it/it/eventi/in-viaggio-con-euclid
END:VEVENT
BEGIN:VTIMEZONE
TZID:Europe/Rome
X-LIC-LOCATION:Europe/Rome
BEGIN:STANDARD
DTSTART;VALUE=DATE-TIME:20241027T020000
TZNAME:CET
TZOFFSETFROM:+0200
TZOFFSETTO:+0100
END:STANDARD
END:VTIMEZONE
END:VCALENDAR
