BEGIN:VCALENDAR
VERSION:2.0
PRODID:-//Plone.org//NONSGML plone.app.event//EN
X-WR-TIMEZONE:Europe/Rome
BEGIN:VEVENT
SUMMARY:I fenomeni astronomici del 2022
DTSTART;TZID=Europe/Rome;VALUE=DATE-TIME:20211213T160000
DTEND;TZID=Europe/Rome;VALUE=DATE-TIME:20211213T170000
DTSTAMP;VALUE=DATE-TIME:20260421T045305Z
UID:c7206cec92dc422b86f662a093215a07@fisica-astronomia.unibo.it
CREATED;VALUE=DATE-TIME:20211209T105433Z
DESCRIPTION:CONFERENZE alla SPECOLA: Incontri mensili di divulgazione astr
 onomica
LAST-MODIFIED;VALUE=DATE-TIME:20211210T150734Z
URL:https://fisica-astronomia.unibo.it/it/eventi/i-fenomeni-astronomici-de
 l-2022-1
END:VEVENT
BEGIN:VTIMEZONE
TZID:Europe/Rome
X-LIC-LOCATION:Europe/Rome
BEGIN:STANDARD
DTSTART;VALUE=DATE-TIME:20211031T020000
TZNAME:CET
TZOFFSETFROM:+0200
TZOFFSETTO:+0100
END:STANDARD
END:VTIMEZONE
END:VCALENDAR
