BEGIN:VCALENDAR
VERSION:2.0
PRODID:-//Plone.org//NONSGML plone.app.event//EN
X-WR-TIMEZONE:Europe/Rome
BEGIN:VEVENT
SUMMARY:Gli studenti fanno vedere le stelle
DTSTART;TZID=Europe/Rome;VALUE=DATE-TIME:20150413T153000
DTEND;TZID=Europe/Rome;VALUE=DATE-TIME:20150421T153000
DTSTAMP;VALUE=DATE-TIME:20260419T160420Z
UID:316761d5ed5040a4ad5fc4650d566470@fisica-astronomia.unibo.it
CREATED;VALUE=DATE-TIME:20150413T113125Z
DESCRIPTION:XVI Settimana Nazionale dell’Astronomia «Gli studenti fanno
  vedere le stelle» 13-20 Aprile 2015\n
LAST-MODIFIED;VALUE=DATE-TIME:20150413T113146Z
URL:https://fisica-astronomia.unibo.it/it/eventi/gli-studenti-fanno-vedere
 -le-stelle
END:VEVENT
BEGIN:VTIMEZONE
TZID:Europe/Rome
X-LIC-LOCATION:Europe/Rome
BEGIN:DAYLIGHT
DTSTART;VALUE=DATE-TIME:20150329T030000
TZNAME:CEST
TZOFFSETFROM:+0100
TZOFFSETTO:+0200
END:DAYLIGHT
END:VTIMEZONE
END:VCALENDAR
