BEGIN:VCALENDAR
VERSION:2.0
PRODID:-//Plone.org//NONSGML plone.app.event//EN
X-WR-TIMEZONE:Europe/Rome
BEGIN:VEVENT
SUMMARY:GeTe-Sb2Te3 Based Materials: From van der Waals Epitaxy to Applica
 tions
DTSTART;TZID=Europe/Rome;VALUE=DATE-TIME:20170322T143000
DTEND;TZID=Europe/Rome;VALUE=DATE-TIME:20170322T153000
DTSTAMP;VALUE=DATE-TIME:20260420T185653Z
UID:eb7f35b8810c4bc1a99bd2c4c2b38928@fisica-astronomia.unibo.it
CREATED;VALUE=DATE-TIME:20170308T103001Z
LAST-MODIFIED;VALUE=DATE-TIME:20170308T103040Z
URL:https://fisica-astronomia.unibo.it/it/eventi/gete-sb2te3-based-materia
 ls-from-van-der-waals-epitaxy-to-applications
END:VEVENT
BEGIN:VTIMEZONE
TZID:Europe/Rome
X-LIC-LOCATION:Europe/Rome
BEGIN:STANDARD
DTSTART;VALUE=DATE-TIME:20161030T020000
TZNAME:CET
TZOFFSETFROM:+0200
TZOFFSETTO:+0100
END:STANDARD
END:VTIMEZONE
END:VCALENDAR
