BEGIN:VCALENDAR
VERSION:2.0
PRODID:-//Plone.org//NONSGML plone.app.event//EN
X-WR-TIMEZONE:Europe/Rome
BEGIN:VEVENT
SUMMARY:Gaia: Early Data Release3\, mission status\, and science highlight
 s from the second data release
DTSTART;TZID=Europe/Rome;VALUE=DATE-TIME:20201216T110000
DTEND;TZID=Europe/Rome;VALUE=DATE-TIME:20201216T120000
DTSTAMP;VALUE=DATE-TIME:20260422T023122Z
UID:b077de6ca0eb4ca1a3e2dcecb4e7de7f@fisica-astronomia.unibo.it
CREATED;VALUE=DATE-TIME:20201214T123637Z
DESCRIPTION:Bologna Astrophysics Campus 2020 "Christmas Lecture". Speaker:
  Anthony Brown (Leiden Observatory professor and Chair of the Gaia Data Pr
 ocessing and Analysis Consortium)
LAST-MODIFIED;VALUE=DATE-TIME:20201214T123755Z
URL:https://fisica-astronomia.unibo.it/it/eventi/gaia-early-data-release3-
 mission-status-and-science-highlights-from-the-second-data-release
END:VEVENT
BEGIN:VTIMEZONE
TZID:Europe/Rome
X-LIC-LOCATION:Europe/Rome
BEGIN:STANDARD
DTSTART;VALUE=DATE-TIME:20201025T020000
TZNAME:CET
TZOFFSETFROM:+0200
TZOFFSETTO:+0100
END:STANDARD
END:VTIMEZONE
END:VCALENDAR
