BEGIN:VCALENDAR
VERSION:2.0
PRODID:-//Plone.org//NONSGML plone.app.event//EN
X-WR-TIMEZONE:Europe/Rome
BEGIN:VEVENT
SUMMARY:FISICA E AMBIENTE. Un'alleanza indispensabile.
DTSTART;TZID=Europe/Rome;VALUE=DATE-TIME:20240530T173000
DTEND;TZID=Europe/Rome;VALUE=DATE-TIME:20240530T190000
DTSTAMP;VALUE=DATE-TIME:20260422T135810Z
UID:bac29fee8c134b7a8510d3ce7db6f9e3@fisica-astronomia.unibo.it
CREATED;VALUE=DATE-TIME:20240504T084954Z
DESCRIPTION:Incontro con la cittadinanza sul contributo della ricerca alla
  mitigazione del cambiamento climatico e al benessere degli ecosistemi\, i
 n occasione del Festival per lo Sviluppo Sostenibile 2024.
LAST-MODIFIED;VALUE=DATE-TIME:20240525T025856Z
URL:https://fisica-astronomia.unibo.it/it/eventi/fisica-e-ambiente-un-alle
 anza-indispensabile
END:VEVENT
BEGIN:VTIMEZONE
TZID:Europe/Rome
X-LIC-LOCATION:Europe/Rome
BEGIN:DAYLIGHT
DTSTART;VALUE=DATE-TIME:20240331T030000
TZNAME:CEST
TZOFFSETFROM:+0100
TZOFFSETTO:+0200
END:DAYLIGHT
END:VTIMEZONE
END:VCALENDAR
