BEGIN:VCALENDAR
VERSION:2.0
PRODID:-//Plone.org//NONSGML plone.app.event//EN
X-WR-TIMEZONE:Europe/Rome
BEGIN:VEVENT
SUMMARY:Figli delle stelle
DTSTART;TZID=Europe/Rome;VALUE=DATE-TIME:20250206T160000
DTEND;TZID=Europe/Rome;VALUE=DATE-TIME:20250206T180000
DTSTAMP;VALUE=DATE-TIME:20260422T221325Z
UID:0285a85869d64bf69404d324548e6fb4@fisica-astronomia.unibo.it
CREATED;VALUE=DATE-TIME:20250117T174741Z
LAST-MODIFIED;VALUE=DATE-TIME:20250117T174742Z
URL:https://fisica-astronomia.unibo.it/it/eventi/figli-delle-stelle
END:VEVENT
BEGIN:VTIMEZONE
TZID:Europe/Rome
X-LIC-LOCATION:Europe/Rome
BEGIN:STANDARD
DTSTART;VALUE=DATE-TIME:20241027T020000
TZNAME:CET
TZOFFSETFROM:+0200
TZOFFSETTO:+0100
END:STANDARD
END:VTIMEZONE
END:VCALENDAR
