BEGIN:VCALENDAR
VERSION:2.0
PRODID:-//Plone.org//NONSGML plone.app.event//EN
X-WR-TIMEZONE:Europe/Rome
BEGIN:VEVENT
SUMMARY:Euromarine Open Science Day  and General Assembly 2024
DTSTART;TZID=Europe/Rome;VALUE=DATE-TIME:20240213T091500
DTEND;TZID=Europe/Rome;VALUE=DATE-TIME:20240213T173000
DTSTAMP;VALUE=DATE-TIME:20260422T205917Z
UID:2eb232aa6bcb4a7890d153637037f133@fisica-astronomia.unibo.it
CREATED;VALUE=DATE-TIME:20240131T142911Z
LAST-MODIFIED;VALUE=DATE-TIME:20240208T213540Z
URL:https://fisica-astronomia.unibo.it/it/eventi/euromarine-open-science-d
 ay-and-general-assembly-2024
END:VEVENT
BEGIN:VTIMEZONE
TZID:Europe/Rome
X-LIC-LOCATION:Europe/Rome
BEGIN:STANDARD
DTSTART;VALUE=DATE-TIME:20231029T020000
TZNAME:CET
TZOFFSETFROM:+0200
TZOFFSETTO:+0100
END:STANDARD
END:VTIMEZONE
END:VCALENDAR
