BEGIN:VCALENDAR
VERSION:2.0
PRODID:-//Plone.org//NONSGML plone.app.event//EN
X-WR-TIMEZONE:Europe/Rome
BEGIN:VEVENT
SUMMARY:Dynamical manifestation of Gibbs paradox after a quantum quench
DTSTART;TZID=Europe/Rome;VALUE=DATE-TIME:20180322T160000
DTEND;TZID=Europe/Rome;VALUE=DATE-TIME:20180322T170000
DTSTAMP;VALUE=DATE-TIME:20260419T191535Z
UID:2bdb2a526c6e493c8ca8e0be36847e28@fisica-astronomia.unibo.it
CREATED;VALUE=DATE-TIME:20180320T073124Z
LAST-MODIFIED;VALUE=DATE-TIME:20180322T093955Z
URL:https://fisica-astronomia.unibo.it/it/eventi/dynamical-manifestation-o
 f-gibbs-paradox-after-a-quantum-quench
END:VEVENT
BEGIN:VTIMEZONE
TZID:Europe/Rome
X-LIC-LOCATION:Europe/Rome
BEGIN:STANDARD
DTSTART;VALUE=DATE-TIME:20171029T020000
TZNAME:CET
TZOFFSETFROM:+0200
TZOFFSETTO:+0100
END:STANDARD
END:VTIMEZONE
END:VCALENDAR
