BEGIN:VCALENDAR
VERSION:2.0
PRODID:-//Plone.org//NONSGML plone.app.event//EN
X-WR-TIMEZONE:Europe/Rome
BEGIN:VEVENT
SUMMARY:Climate-smart Marine Spatial Planning as an opportunity for climat
 e action for people and nature
DTSTART;TZID=Europe/Rome;VALUE=DATE-TIME:20250121T143000
DTEND;TZID=Europe/Rome;VALUE=DATE-TIME:20250121T153000
DTSTAMP;VALUE=DATE-TIME:20260422T191944Z
UID:cb56b2e257ec4ad0bb2bde2356eb06a7@fisica-astronomia.unibo.it
CREATED;VALUE=DATE-TIME:20241219T144732Z
LAST-MODIFIED;VALUE=DATE-TIME:20241219T145535Z
URL:https://fisica-astronomia.unibo.it/it/eventi/climate-smart-marine-spat
 ial-planning-as-an-opportunity-for-climate-action-for-people-and-nature
END:VEVENT
BEGIN:VTIMEZONE
TZID:Europe/Rome
X-LIC-LOCATION:Europe/Rome
BEGIN:STANDARD
DTSTART;VALUE=DATE-TIME:20241027T020000
TZNAME:CET
TZOFFSETFROM:+0200
TZOFFSETTO:+0100
END:STANDARD
END:VTIMEZONE
END:VCALENDAR
