BEGIN:VCALENDAR
VERSION:2.0
PRODID:-//Plone.org//NONSGML plone.app.event//EN
X-WR-TIMEZONE:Europe/Rome
BEGIN:VEVENT
SUMMARY:Boundary Action\, Thermodynamics and Zero Point Length
DTSTART;TZID=Europe/Rome;VALUE=DATE-TIME:20191003T140000
DTEND;TZID=Europe/Rome;VALUE=DATE-TIME:20191003T160000
DTSTAMP;VALUE=DATE-TIME:20260420T232732Z
UID:b8640ed36b74429a96b51ba1b495b775@fisica-astronomia.unibo.it
CREATED;VALUE=DATE-TIME:20191001T120337Z
LAST-MODIFIED;VALUE=DATE-TIME:20191001T120436Z
URL:https://fisica-astronomia.unibo.it/it/eventi/boundary-action-thermodyn
 amics-and-zero-point-length
END:VEVENT
BEGIN:VTIMEZONE
TZID:Europe/Rome
X-LIC-LOCATION:Europe/Rome
BEGIN:DAYLIGHT
DTSTART;VALUE=DATE-TIME:20190331T030000
TZNAME:CEST
TZOFFSETFROM:+0100
TZOFFSETTO:+0200
END:DAYLIGHT
END:VTIMEZONE
END:VCALENDAR
