BEGIN:VCALENDAR
VERSION:2.0
PRODID:-//Plone.org//NONSGML plone.app.event//EN
X-WR-TIMEZONE:Europe/Rome
BEGIN:VEVENT
SUMMARY:Atomic force microscopy for the quantitative investigation of nano
 structured surfaces
DTSTART;TZID=Europe/Rome;VALUE=DATE-TIME:20151120T160000
DTEND;TZID=Europe/Rome;VALUE=DATE-TIME:20151120T170000
DTSTAMP;VALUE=DATE-TIME:20260426T054124Z
UID:7bf2e21c77194f95ac81cb8d724e99a7@fisica-astronomia.unibo.it
CREATED;VALUE=DATE-TIME:20151120T075539Z
DESCRIPTION:Caffè Scientifico di Fisica della Materia
LAST-MODIFIED;VALUE=DATE-TIME:20151120T081406Z
URL:https://fisica-astronomia.unibo.it/it/eventi/atomic-force-microscopy-f
 or-the-quantitative-investigation-of-nanostructured-surfaces
END:VEVENT
BEGIN:VTIMEZONE
TZID:Europe/Rome
X-LIC-LOCATION:Europe/Rome
BEGIN:STANDARD
DTSTART;VALUE=DATE-TIME:20151025T020000
TZNAME:CET
TZOFFSETFROM:+0200
TZOFFSETTO:+0100
END:STANDARD
END:VTIMEZONE
END:VCALENDAR
