BEGIN:VCALENDAR
VERSION:2.0
PRODID:-//Plone.org//NONSGML plone.app.event//EN
X-WR-TIMEZONE:Europe/Rome
BEGIN:VEVENT
SUMMARY:Antenna-coupled quantum devices for detection and emission  of mid
 -infrared and terahertz waves
DTSTART;TZID=Europe/Rome;VALUE=DATE-TIME:20170330T160000
DTEND;TZID=Europe/Rome;VALUE=DATE-TIME:20170330T170000
DTSTAMP;VALUE=DATE-TIME:20260420T143812Z
UID:a0cee3d802ab41dda154eb50b6db4ecf@fisica-astronomia.unibo.it
CREATED;VALUE=DATE-TIME:20170315T103403Z
LAST-MODIFIED;VALUE=DATE-TIME:20170315T103537Z
URL:https://fisica-astronomia.unibo.it/it/eventi/antenna-coupled-quantum-d
 evices-for-detection-and-emission-of-mid-infrared-and-terahertz-waves
END:VEVENT
BEGIN:VTIMEZONE
TZID:Europe/Rome
X-LIC-LOCATION:Europe/Rome
BEGIN:DAYLIGHT
DTSTART;VALUE=DATE-TIME:20170326T030000
TZNAME:CEST
TZOFFSETFROM:+0100
TZOFFSETTO:+0200
END:DAYLIGHT
END:VTIMEZONE
END:VCALENDAR
