BEGIN:VCALENDAR
VERSION:2.0
PRODID:-//Plone.org//NONSGML plone.app.event//EN
X-WR-TIMEZONE:Europe/Rome
BEGIN:VEVENT
SUMMARY:Ab Initio Modelling of Materials
DTSTART;TZID=Europe/Rome;VALUE=DATE-TIME:20170317T143000
DTEND;TZID=Europe/Rome;VALUE=DATE-TIME:20170317T153000
DTSTAMP;VALUE=DATE-TIME:20260422T184330Z
UID:c6354ce79179428b8434ec60ea9fad9a@fisica-astronomia.unibo.it
CREATED;VALUE=DATE-TIME:20170308T102518Z
LAST-MODIFIED;VALUE=DATE-TIME:20170308T102546Z
URL:https://fisica-astronomia.unibo.it/it/eventi/ab-initio-modelling-of-ma
 terials
END:VEVENT
BEGIN:VTIMEZONE
TZID:Europe/Rome
X-LIC-LOCATION:Europe/Rome
BEGIN:STANDARD
DTSTART;VALUE=DATE-TIME:20161030T020000
TZNAME:CET
TZOFFSETFROM:+0200
TZOFFSETTO:+0100
END:STANDARD
END:VTIMEZONE
END:VCALENDAR
